BEGIN:VCALENDAR
VERSION:2.0
PRODID:-//mooncrest.org//NONSGML kigkonsult.se iCalcreator 2.30.10//
CALSCALE:GREGORIAN
METHOD:PUBLISH
UID:9926dadd-441c-43a2-8da9-56b60f17d5f0
X-WR-CALDESC:
X-WR-RELCALID:daf309cddd19797864981aafc393c602
X-WR-TIMEZONE:America/New_York
BEGIN:VTIMEZONE
TZID:America/New_York
BEGIN:STANDARD
TZNAME:EST
DTSTART:20241103T020000
TZOFFSETFROM:-0400
TZOFFSETTO:-0500
RDATE:20251102T020000
RDATE:20261101T020000
END:STANDARD
BEGIN:DAYLIGHT
TZNAME:EDT
DTSTART:20250309T020000
TZOFFSETFROM:-0500
TZOFFSETTO:-0400
RDATE:20260308T020000
RDATE:20270314T020000
END:DAYLIGHT
END:VTIMEZONE
BEGIN:VEVENT
UID:31df2a0e-633c-4b25-9285-52529aa9892c
DTSTAMP:20260419T122229Z
DESCRIPTION:
DTSTART;TZID=America/New_York:20251029T123000
DTEND;TZID=America/New_York:20251029T143000
LOCATION:
SUMMARY:GED
END:VEVENT
END:VCALENDAR
