BEGIN:VCALENDAR
VERSION:2.0
PRODID:-//mooncrest.org//NONSGML kigkonsult.se iCalcreator 2.30.10//
CALSCALE:GREGORIAN
METHOD:PUBLISH
UID:76b06589-72a8-4ea2-8015-d347d7b4a551
X-WR-CALDESC:
X-WR-RELCALID:3fe36d4e048fdf901b4f7e8777ee472f
X-WR-TIMEZONE:America/New_York
BEGIN:VTIMEZONE
TZID:America/New_York
BEGIN:STANDARD
TZNAME:EST
DTSTART:20241103T020000
TZOFFSETFROM:-0400
TZOFFSETTO:-0500
RDATE:20251102T020000
RDATE:20261101T020000
END:STANDARD
BEGIN:DAYLIGHT
TZNAME:EDT
DTSTART:20250309T020000
TZOFFSETFROM:-0500
TZOFFSETTO:-0400
RDATE:20260308T020000
RDATE:20270314T020000
END:DAYLIGHT
END:VTIMEZONE
BEGIN:VEVENT
UID:10dc023d-4a74-406a-89d9-e04e27976280
DTSTAMP:20260419T124118Z
DESCRIPTION:
DTSTART;TZID=America/New_York:20251029T100000
DTEND;TZID=America/New_York:20251029T113000
LOCATION:308 hemlock Dvie\, Moon Township\, PA 15108 US
SUMMARY:Faith Sharing and Pokeno
END:VEVENT
END:VCALENDAR
