BEGIN:VCALENDAR
VERSION:2.0
PRODID:-//mooncrest.org//NONSGML kigkonsult.se iCalcreator 2.30.10//
CALSCALE:GREGORIAN
METHOD:PUBLISH
UID:78a3b10a-ee00-473b-927b-f709b96299a9
X-WR-CALDESC:
X-WR-RELCALID:e0e8ed1fff2c9e1d803c7d8821304908
X-WR-TIMEZONE:America/New_York
BEGIN:VTIMEZONE
TZID:America/New_York
BEGIN:STANDARD
TZNAME:EST
DTSTART:20241103T020000
TZOFFSETFROM:-0400
TZOFFSETTO:-0500
RDATE:20251102T020000
RDATE:20261101T020000
END:STANDARD
BEGIN:DAYLIGHT
TZNAME:EDT
DTSTART:20250309T020000
TZOFFSETFROM:-0500
TZOFFSETTO:-0400
RDATE:20260308T020000
RDATE:20270314T020000
END:DAYLIGHT
END:VTIMEZONE
BEGIN:VEVENT
UID:f6ca1308-11a7-4893-bc71-0d636aaa4bc8
DTSTAMP:20260419T124348Z
DESCRIPTION:
DTSTART;TZID=America/New_York:20251027T100000
DTEND;TZID=America/New_York:20251027T120000
LOCATION:308 Hemlock Drive\, Moon Township\, PA 15108 US
SUMMARY:Adult Crafts
END:VEVENT
END:VCALENDAR
