BEGIN:VCALENDAR
VERSION:2.0
PRODID:-//mooncrest.org//NONSGML kigkonsult.se iCalcreator 2.30.10//
CALSCALE:GREGORIAN
METHOD:PUBLISH
UID:ef93bca0-41d8-4537-8d6f-bbcf2062367b
X-WR-CALDESC:
X-WR-RELCALID:9e93fd819ae4c2a22fd3a554fc25007f
X-WR-TIMEZONE:America/New_York
BEGIN:VTIMEZONE
TZID:America/New_York
BEGIN:STANDARD
TZNAME:EST
DTSTART:20241103T020000
TZOFFSETFROM:-0400
TZOFFSETTO:-0500
RDATE:20251102T020000
RDATE:20261101T020000
END:STANDARD
BEGIN:DAYLIGHT
TZNAME:EDT
DTSTART:20250309T020000
TZOFFSETFROM:-0500
TZOFFSETTO:-0400
RDATE:20260308T020000
RDATE:20270314T020000
END:DAYLIGHT
END:VTIMEZONE
BEGIN:VEVENT
UID:b227763d-e96c-4d84-a4f1-7e5e2649488a
DTSTAMP:20260419T122532Z
DESCRIPTION:
DTSTART;TZID=America/New_York:20251027T100000
DTEND;TZID=America/New_York:20251027T120000
LOCATION:308 Hemlock Drive\, Moon Township\, PA 15108 US
SUMMARY:412 Food Distribution
END:VEVENT
END:VCALENDAR
