BEGIN:VCALENDAR
VERSION:2.0
PRODID:-//mooncrest.org//NONSGML kigkonsult.se iCalcreator 2.30.10//
CALSCALE:GREGORIAN
METHOD:PUBLISH
UID:2f5eccf6-ab1d-4689-a23b-f76e2e684f8d
X-WR-CALDESC:
X-WR-RELCALID:faec925bfaa7e649861f18c969c406b8
X-WR-TIMEZONE:America/New_York
BEGIN:VTIMEZONE
TZID:America/New_York
BEGIN:STANDARD
TZNAME:EST
DTSTART:20241103T020000
TZOFFSETFROM:-0400
TZOFFSETTO:-0500
RDATE:20251102T020000
RDATE:20261101T020000
END:STANDARD
BEGIN:DAYLIGHT
TZNAME:EDT
DTSTART:20250309T020000
TZOFFSETFROM:-0500
TZOFFSETTO:-0400
RDATE:20260308T020000
RDATE:20270314T020000
END:DAYLIGHT
END:VTIMEZONE
BEGIN:VEVENT
UID:abbca526-3431-40c8-9c3a-818d85e2e39b
DTSTAMP:20260419T124046Z
DESCRIPTION:
DTSTART;TZID=America/New_York:20251022T100000
DTEND;TZID=America/New_York:20251022T113000
LOCATION:308 hemlock Dvie\, Moon Township\, PA 15108 US
SUMMARY:Faith Sharing and Pokeno
END:VEVENT
END:VCALENDAR
