BEGIN:VCALENDAR
VERSION:2.0
PRODID:-//mooncrest.org//NONSGML kigkonsult.se iCalcreator 2.30.10//
CALSCALE:GREGORIAN
METHOD:PUBLISH
UID:4d7dcb6f-f5ed-4476-8b20-5a7649cdd67f
X-WR-CALDESC:
X-WR-RELCALID:a536c8a1e517e3a10fdd63254eef0ba7
X-WR-TIMEZONE:America/New_York
BEGIN:VTIMEZONE
TZID:America/New_York
BEGIN:STANDARD
TZNAME:EST
DTSTART:20241103T020000
TZOFFSETFROM:-0400
TZOFFSETTO:-0500
RDATE:20251102T020000
RDATE:20261101T020000
END:STANDARD
BEGIN:DAYLIGHT
TZNAME:EDT
DTSTART:20250309T020000
TZOFFSETFROM:-0500
TZOFFSETTO:-0400
RDATE:20260308T020000
RDATE:20270314T020000
END:DAYLIGHT
END:VTIMEZONE
BEGIN:VEVENT
UID:cbf422ec-2e54-4291-8e8f-682ebb13ed21
DTSTAMP:20260419T122024Z
DESCRIPTION:
DTSTART;TZID=America/New_York:20251020T123000
DTEND;TZID=America/New_York:20251020T143000
LOCATION:
SUMMARY:GED
END:VEVENT
END:VCALENDAR
