BEGIN:VCALENDAR
VERSION:2.0
PRODID:-//mooncrest.org//NONSGML kigkonsult.se iCalcreator 2.30.10//
CALSCALE:GREGORIAN
METHOD:PUBLISH
UID:7948d9b3-ef1e-4bd1-b41b-30f163d0a7a6
X-WR-CALDESC:
X-WR-RELCALID:04223d002e1fe1d2b2db0b1f5e2aeec5
X-WR-TIMEZONE:America/New_York
BEGIN:VTIMEZONE
TZID:America/New_York
BEGIN:STANDARD
TZNAME:EST
DTSTART:20241103T020000
TZOFFSETFROM:-0400
TZOFFSETTO:-0500
RDATE:20251102T020000
RDATE:20261101T020000
END:STANDARD
BEGIN:DAYLIGHT
TZNAME:EDT
DTSTART:20250309T020000
TZOFFSETFROM:-0500
TZOFFSETTO:-0400
RDATE:20260308T020000
RDATE:20270314T020000
END:DAYLIGHT
END:VTIMEZONE
BEGIN:VEVENT
UID:9710bb82-5393-4b55-95f2-dcf7b2a1536e
DTSTAMP:20260419T124251Z
DESCRIPTION:
DTSTART;TZID=America/New_York:20251020T100000
DTEND;TZID=America/New_York:20251020T120000
LOCATION:308 Hemlock Drive\, Moon Township\, PA 15108 US
SUMMARY:412 Food Distribution
END:VEVENT
END:VCALENDAR
