BEGIN:VCALENDAR
VERSION:2.0
PRODID:-//mooncrest.org//NONSGML kigkonsult.se iCalcreator 2.30.10//
CALSCALE:GREGORIAN
METHOD:PUBLISH
UID:b46bb7b4-fed3-46c2-903a-30a006a7c029
X-WR-CALDESC:
X-WR-RELCALID:87e9ba39488bf76868d9a2b55d45adf7
X-WR-TIMEZONE:America/New_York
BEGIN:VTIMEZONE
TZID:America/New_York
BEGIN:STANDARD
TZNAME:EST
DTSTART:20241103T020000
TZOFFSETFROM:-0400
TZOFFSETTO:-0500
RDATE:20251102T020000
RDATE:20261101T020000
END:STANDARD
BEGIN:DAYLIGHT
TZNAME:EDT
DTSTART:20250309T020000
TZOFFSETFROM:-0500
TZOFFSETTO:-0400
RDATE:20260308T020000
RDATE:20270314T020000
END:DAYLIGHT
END:VTIMEZONE
BEGIN:VEVENT
UID:4e432494-fd6a-4de0-9077-94069cfe27b4
DTSTAMP:20260419T124013Z
DESCRIPTION:
DTSTART;TZID=America/New_York:20251020T090000
DTEND;TZID=America/New_York:20251020T120000
LOCATION:
SUMMARY:SHHC-Women's Health
END:VEVENT
END:VCALENDAR
