BEGIN:VCALENDAR
VERSION:2.0
PRODID:-//mooncrest.org//NONSGML kigkonsult.se iCalcreator 2.30.10//
CALSCALE:GREGORIAN
METHOD:PUBLISH
UID:fab66332-6b91-4221-9ac5-3e1b12da2056
X-WR-CALDESC:
X-WR-RELCALID:3765d06a4d36fe17910c26d9d5dcf671
X-WR-TIMEZONE:America/New_York
BEGIN:VTIMEZONE
TZID:America/New_York
BEGIN:STANDARD
TZNAME:EST
DTSTART:20241103T020000
TZOFFSETFROM:-0400
TZOFFSETTO:-0500
RDATE:20251102T020000
RDATE:20261101T020000
END:STANDARD
BEGIN:DAYLIGHT
TZNAME:EDT
DTSTART:20250309T020000
TZOFFSETFROM:-0500
TZOFFSETTO:-0400
RDATE:20260308T020000
RDATE:20270314T020000
END:DAYLIGHT
END:VTIMEZONE
BEGIN:VEVENT
UID:79be6a29-9df1-41fd-a763-198dda025ea4
DTSTAMP:20260419T121811Z
DESCRIPTION:
DTSTART;TZID=America/New_York:20251020T090000
DTEND;TZID=America/New_York:20251020T120000
LOCATION:
SUMMARY:Maya
END:VEVENT
END:VCALENDAR
