BEGIN:VCALENDAR
VERSION:2.0
PRODID:-//mooncrest.org//NONSGML kigkonsult.se iCalcreator 2.30.10//
CALSCALE:GREGORIAN
METHOD:PUBLISH
UID:ff4961b1-a65d-4497-bdb5-d3236db4aba2
X-WR-CALDESC:
X-WR-RELCALID:3353989f24f2cea70cc44e3c6bc7f643
X-WR-TIMEZONE:America/New_York
BEGIN:VTIMEZONE
TZID:America/New_York
BEGIN:STANDARD
TZNAME:EST
DTSTART:20241103T020000
TZOFFSETFROM:-0400
TZOFFSETTO:-0500
RDATE:20251102T020000
RDATE:20261101T020000
END:STANDARD
BEGIN:DAYLIGHT
TZNAME:EDT
DTSTART:20250309T020000
TZOFFSETFROM:-0500
TZOFFSETTO:-0400
RDATE:20260308T020000
RDATE:20270314T020000
END:DAYLIGHT
END:VTIMEZONE
BEGIN:VEVENT
UID:136d905d-f7e0-47bc-8d3d-1d88182ad953
DTSTAMP:20260419T121818Z
DESCRIPTION:
DTSTART;TZID=America/New_York:20251015T123000
DTEND;TZID=America/New_York:20251015T143000
LOCATION:
SUMMARY:GED
END:VEVENT
END:VCALENDAR
