BEGIN:VCALENDAR
VERSION:2.0
PRODID:-//mooncrest.org//NONSGML kigkonsult.se iCalcreator 2.30.10//
CALSCALE:GREGORIAN
METHOD:PUBLISH
UID:0a1ce3eb-82d9-4eca-a2a8-dc9856390f8c
X-WR-CALDESC:
X-WR-RELCALID:579416db38880f41b8293ad81c7c5386
X-WR-TIMEZONE:America/New_York
BEGIN:VTIMEZONE
TZID:America/New_York
BEGIN:STANDARD
TZNAME:EST
DTSTART:20241103T020000
TZOFFSETFROM:-0400
TZOFFSETTO:-0500
RDATE:20251102T020000
RDATE:20261101T020000
END:STANDARD
BEGIN:DAYLIGHT
TZNAME:EDT
DTSTART:20250309T020000
TZOFFSETFROM:-0500
TZOFFSETTO:-0400
RDATE:20260308T020000
RDATE:20270314T020000
END:DAYLIGHT
END:VTIMEZONE
BEGIN:VEVENT
UID:8083499f-dc25-41bf-88d4-362097879d0a
DTSTAMP:20260419T123503Z
DESCRIPTION:
DTSTART;TZID=America/New_York:20251015T100000
DTEND;TZID=America/New_York:20251015T113000
LOCATION:308 hemlock Dvie\, Moon Township\, PA 15108 US
SUMMARY:Faith Sharing and Pokeno
END:VEVENT
END:VCALENDAR
