BEGIN:VCALENDAR
VERSION:2.0
PRODID:-//mooncrest.org//NONSGML kigkonsult.se iCalcreator 2.30.10//
CALSCALE:GREGORIAN
METHOD:PUBLISH
UID:283a2c12-4937-4bf5-845e-6839467f955b
X-WR-CALDESC:
X-WR-RELCALID:74d2a9859e651d939895c23bc4f7c122
X-WR-TIMEZONE:America/New_York
BEGIN:VTIMEZONE
TZID:America/New_York
BEGIN:STANDARD
TZNAME:EST
DTSTART:20241103T020000
TZOFFSETFROM:-0400
TZOFFSETTO:-0500
RDATE:20251102T020000
RDATE:20261101T020000
END:STANDARD
BEGIN:DAYLIGHT
TZNAME:EDT
DTSTART:20250309T020000
TZOFFSETFROM:-0500
TZOFFSETTO:-0400
RDATE:20260308T020000
RDATE:20270314T020000
END:DAYLIGHT
END:VTIMEZONE
BEGIN:VEVENT
UID:3012c704-06a0-4902-98dd-40291470139c
DTSTAMP:20260419T122229Z
DESCRIPTION:
DTSTART;TZID=America/New_York:20251013T123000
DTEND;TZID=America/New_York:20251013T143000
LOCATION:
SUMMARY:GED
END:VEVENT
END:VCALENDAR
