BEGIN:VCALENDAR
VERSION:2.0
PRODID:-//mooncrest.org//NONSGML kigkonsult.se iCalcreator 2.30.10//
CALSCALE:GREGORIAN
METHOD:PUBLISH
UID:2060e195-f3cd-456e-8d9d-21f6d5d1002f
X-WR-CALDESC:
X-WR-RELCALID:908e7db654bd985f5c2c365144a9659a
X-WR-TIMEZONE:America/New_York
BEGIN:VTIMEZONE
TZID:America/New_York
BEGIN:STANDARD
TZNAME:EST
DTSTART:20241103T020000
TZOFFSETFROM:-0400
TZOFFSETTO:-0500
RDATE:20251102T020000
RDATE:20261101T020000
END:STANDARD
BEGIN:DAYLIGHT
TZNAME:EDT
DTSTART:20250309T020000
TZOFFSETFROM:-0500
TZOFFSETTO:-0400
RDATE:20260308T020000
RDATE:20270314T020000
END:DAYLIGHT
END:VTIMEZONE
BEGIN:VEVENT
UID:07f3993f-8106-445c-941d-acb37c99cbb1
DTSTAMP:20260419T123039Z
DESCRIPTION:
DTSTART;TZID=America/New_York:20251013T100000
DTEND;TZID=America/New_York:20251013T120000
LOCATION:308 Hemlock Drive\, Moon Township\, PA 15108 US
SUMMARY:412 Food Distribution
END:VEVENT
END:VCALENDAR
