BEGIN:VCALENDAR
VERSION:2.0
PRODID:-//mooncrest.org//NONSGML kigkonsult.se iCalcreator 2.30.10//
CALSCALE:GREGORIAN
METHOD:PUBLISH
UID:5fef24dd-c887-42ae-87fc-ce9a118e4514
X-WR-CALDESC:
X-WR-RELCALID:28d53d2c96ee36dae76db7226648964f
X-WR-TIMEZONE:America/New_York
BEGIN:VTIMEZONE
TZID:America/New_York
BEGIN:STANDARD
TZNAME:EST
DTSTART:20241103T020000
TZOFFSETFROM:-0400
TZOFFSETTO:-0500
RDATE:20251102T020000
RDATE:20261101T020000
END:STANDARD
BEGIN:DAYLIGHT
TZNAME:EDT
DTSTART:20250309T020000
TZOFFSETFROM:-0500
TZOFFSETTO:-0400
RDATE:20260308T020000
RDATE:20270314T020000
END:DAYLIGHT
END:VTIMEZONE
BEGIN:VEVENT
UID:20de0854-b417-4263-a50e-caef768f991c
DTSTAMP:20260419T122455Z
DESCRIPTION:
DTSTART;TZID=America/New_York:20251013T090000
DTEND;TZID=America/New_York:20251013T160000
LOCATION:
SUMMARY:SHHC-Primary Care
END:VEVENT
END:VCALENDAR
