BEGIN:VCALENDAR
VERSION:2.0
PRODID:-//mooncrest.org//NONSGML kigkonsult.se iCalcreator 2.30.10//
CALSCALE:GREGORIAN
METHOD:PUBLISH
UID:90caaccc-9fca-46e2-9de7-107abaa192fe
X-WR-CALDESC:
X-WR-RELCALID:06652a211a1a31544706bbff878c0761
X-WR-TIMEZONE:America/New_York
BEGIN:VTIMEZONE
TZID:America/New_York
BEGIN:STANDARD
TZNAME:EST
DTSTART:20241103T020000
TZOFFSETFROM:-0400
TZOFFSETTO:-0500
RDATE:20251102T020000
RDATE:20261101T020000
END:STANDARD
BEGIN:DAYLIGHT
TZNAME:EDT
DTSTART:20250309T020000
TZOFFSETFROM:-0500
TZOFFSETTO:-0400
RDATE:20260308T020000
RDATE:20270314T020000
END:DAYLIGHT
END:VTIMEZONE
BEGIN:VEVENT
UID:720ebebb-6358-40cf-a9ea-58dabdbc2d47
DTSTAMP:20260419T122801Z
DESCRIPTION:
DTSTART;TZID=America/New_York:20251008T100000
DTEND;TZID=America/New_York:20251008T113000
LOCATION:308 hemlock Dvie\, Moon Township\, PA 15108 US
SUMMARY:Faith Sharing and Pokeno
END:VEVENT
END:VCALENDAR
