BEGIN:VCALENDAR
VERSION:2.0
PRODID:-//mooncrest.org//NONSGML kigkonsult.se iCalcreator 2.30.10//
CALSCALE:GREGORIAN
METHOD:PUBLISH
UID:9e5bb181-dc78-469d-824f-3e5152e8ce30
X-WR-CALDESC:
X-WR-RELCALID:94d0986da05b7e449913f9eb4854f414
X-WR-TIMEZONE:America/New_York
BEGIN:VTIMEZONE
TZID:America/New_York
BEGIN:STANDARD
TZNAME:EST
DTSTART:20241103T020000
TZOFFSETFROM:-0400
TZOFFSETTO:-0500
RDATE:20251102T020000
RDATE:20261101T020000
END:STANDARD
BEGIN:DAYLIGHT
TZNAME:EDT
DTSTART:20250309T020000
TZOFFSETFROM:-0500
TZOFFSETTO:-0400
RDATE:20260308T020000
RDATE:20270314T020000
END:DAYLIGHT
END:VTIMEZONE
BEGIN:VEVENT
UID:fa58b3ef-95a8-46f4-a364-944c990042dd
DTSTAMP:20260419T122158Z
DESCRIPTION:
DTSTART;TZID=America/New_York:20251006T123000
DTEND;TZID=America/New_York:20251006T143000
LOCATION:
SUMMARY:GED
END:VEVENT
END:VCALENDAR
