BEGIN:VCALENDAR
VERSION:2.0
PRODID:-//mooncrest.org//NONSGML kigkonsult.se iCalcreator 2.30.10//
CALSCALE:GREGORIAN
METHOD:PUBLISH
UID:7c7fc759-a35d-4484-aeab-fc62c34893a6
X-WR-CALDESC:
X-WR-RELCALID:863ae1537e0065cdf4cc9eb10b52e9a9
X-WR-TIMEZONE:America/New_York
BEGIN:VTIMEZONE
TZID:America/New_York
BEGIN:STANDARD
TZNAME:EST
DTSTART:20241103T020000
TZOFFSETFROM:-0400
TZOFFSETTO:-0500
RDATE:20251102T020000
RDATE:20261101T020000
END:STANDARD
BEGIN:DAYLIGHT
TZNAME:EDT
DTSTART:20250309T020000
TZOFFSETFROM:-0500
TZOFFSETTO:-0400
RDATE:20260308T020000
RDATE:20270314T020000
END:DAYLIGHT
END:VTIMEZONE
BEGIN:VEVENT
UID:ed8e2af7-00bb-49ed-8fdf-b36765a71482
DTSTAMP:20260419T122454Z
DESCRIPTION:
DTSTART;TZID=America/New_York:20251006T100000
DTEND;TZID=America/New_York:20251006T120000
LOCATION:308 Hemlock Drive\, Moon Township\, PA 15108 US
SUMMARY:412 Food Distribution
END:VEVENT
END:VCALENDAR
