BEGIN:VCALENDAR
VERSION:2.0
PRODID:-//mooncrest.org//NONSGML kigkonsult.se iCalcreator 2.30.10//
CALSCALE:GREGORIAN
METHOD:PUBLISH
UID:9b30cfcd-6e83-4090-b227-6e864777ca27
X-WR-CALDESC:
X-WR-RELCALID:155a46b665e26d05997207d56b5f9fc5
X-WR-TIMEZONE:America/New_York
BEGIN:VTIMEZONE
TZID:America/New_York
BEGIN:STANDARD
TZNAME:EST
DTSTART:20241103T020000
TZOFFSETFROM:-0400
TZOFFSETTO:-0500
RDATE:20251102T020000
RDATE:20261101T020000
END:STANDARD
BEGIN:DAYLIGHT
TZNAME:EDT
DTSTART:20250309T020000
TZOFFSETFROM:-0500
TZOFFSETTO:-0400
RDATE:20260308T020000
RDATE:20270314T020000
END:DAYLIGHT
END:VTIMEZONE
BEGIN:VEVENT
UID:e4a2567e-d9fe-493a-86c8-d5244d92d7a5
DTSTAMP:20260419T122158Z
DESCRIPTION:
DTSTART;TZID=America/New_York:20251006T090000
DTEND;TZID=America/New_York:20251006T120000
LOCATION:
SUMMARY:Maya
END:VEVENT
END:VCALENDAR
