BEGIN:VCALENDAR
VERSION:2.0
PRODID:-//mooncrest.org//NONSGML kigkonsult.se iCalcreator 2.30.10//
CALSCALE:GREGORIAN
METHOD:PUBLISH
UID:9ee7d831-4612-4553-8df1-31d32f4c805b
X-WR-CALDESC:
X-WR-RELCALID:add842cec91a20730690035ebb35d139
X-WR-TIMEZONE:America/New_York
BEGIN:VTIMEZONE
TZID:America/New_York
BEGIN:STANDARD
TZNAME:EST
DTSTART:20241103T020000
TZOFFSETFROM:-0400
TZOFFSETTO:-0500
RDATE:20251102T020000
RDATE:20261101T020000
END:STANDARD
BEGIN:DAYLIGHT
TZNAME:EDT
DTSTART:20250309T020000
TZOFFSETFROM:-0500
TZOFFSETTO:-0400
RDATE:20260308T020000
RDATE:20270314T020000
END:DAYLIGHT
END:VTIMEZONE
BEGIN:VEVENT
UID:59c7156b-0c00-4ed3-aa06-ddfb140be82c
DTSTAMP:20260423T095237Z
DESCRIPTION:
DTSTART;TZID=America/New_York:20250922T100000
DTEND;TZID=America/New_York:20250922T120000
LOCATION:308 Hemlock Drive\, Moon Township\, PA 15108 US
SUMMARY:412 Food Distribution
END:VEVENT
END:VCALENDAR
