BEGIN:VCALENDAR
VERSION:2.0
PRODID:-//mooncrest.org//NONSGML kigkonsult.se iCalcreator 2.30.10//
CALSCALE:GREGORIAN
METHOD:PUBLISH
UID:cb1a5b28-f2da-41c2-9e39-8b411ac940e6
X-WR-CALDESC:
X-WR-RELCALID:3c3f7d80504a6f36e16ad8f39c5f0fbc
X-WR-TIMEZONE:America/New_York
BEGIN:VTIMEZONE
TZID:America/New_York
BEGIN:STANDARD
TZNAME:EST
DTSTART:20241103T020000
TZOFFSETFROM:-0400
TZOFFSETTO:-0500
RDATE:20251102T020000
RDATE:20261101T020000
END:STANDARD
BEGIN:DAYLIGHT
TZNAME:EDT
DTSTART:20250309T020000
TZOFFSETFROM:-0500
TZOFFSETTO:-0400
RDATE:20260308T020000
RDATE:20270314T020000
END:DAYLIGHT
END:VTIMEZONE
BEGIN:VEVENT
UID:a29a42c1-89e2-4d67-8985-acc291c95006
DTSTAMP:20260423T095210Z
DESCRIPTION:
DTSTART;TZID=America/New_York:20250915T090000
DTEND;TZID=America/New_York:20250915T120000
LOCATION:
SUMMARY:Maya
END:VEVENT
END:VCALENDAR
