BEGIN:VCALENDAR
VERSION:2.0
PRODID:-//mooncrest.org//NONSGML kigkonsult.se iCalcreator 2.30.10//
CALSCALE:GREGORIAN
METHOD:PUBLISH
UID:4dc4e345-c8b4-4202-af5a-873454fc06bb
X-WR-CALDESC:
X-WR-RELCALID:00bb2399236ae73f0248c1368ed14593
X-WR-TIMEZONE:America/New_York
BEGIN:VTIMEZONE
TZID:America/New_York
BEGIN:STANDARD
TZNAME:EST
DTSTART:20241103T020000
TZOFFSETFROM:-0400
TZOFFSETTO:-0500
RDATE:20251102T020000
RDATE:20261101T020000
END:STANDARD
BEGIN:DAYLIGHT
TZNAME:EDT
DTSTART:20250309T020000
TZOFFSETFROM:-0500
TZOFFSETTO:-0400
RDATE:20260308T020000
END:DAYLIGHT
END:VTIMEZONE
BEGIN:VEVENT
UID:6fb5bf5f-f45a-4726-a129-a2db3c4a7911
DTSTAMP:20260423T100453Z
DESCRIPTION:
DTSTART;TZID=America/New_York:20250818T123000
DTEND;TZID=America/New_York:20250818T143000
LOCATION:
SUMMARY:GED
END:VEVENT
END:VCALENDAR
