BEGIN:VCALENDAR
VERSION:2.0
PRODID:-//mooncrest.org//NONSGML kigkonsult.se iCalcreator 2.30.10//
CALSCALE:GREGORIAN
METHOD:PUBLISH
UID:db449bbe-4232-4b7b-9223-fb4a327bd466
X-WR-CALDESC:
X-WR-RELCALID:6e77b49d8e57765057eaac6a2c39179a
X-WR-TIMEZONE:America/New_York
BEGIN:VTIMEZONE
TZID:America/New_York
BEGIN:STANDARD
TZNAME:EST
DTSTART:20241103T020000
TZOFFSETFROM:-0400
TZOFFSETTO:-0500
RDATE:20251102T020000
RDATE:20261101T020000
END:STANDARD
BEGIN:DAYLIGHT
TZNAME:EDT
DTSTART:20250309T020000
TZOFFSETFROM:-0500
TZOFFSETTO:-0400
RDATE:20260308T020000
END:DAYLIGHT
END:VTIMEZONE
BEGIN:VEVENT
UID:c9d656b1-98c3-4b0e-a126-758eb9c1457c
DTSTAMP:20260421T135056Z
DESCRIPTION:
DTSTART;TZID=America/New_York:20250813T123000
DTEND;TZID=America/New_York:20250813T143000
LOCATION:
SUMMARY:GED
END:VEVENT
END:VCALENDAR
