BEGIN:VCALENDAR
VERSION:2.0
PRODID:-//mooncrest.org//NONSGML kigkonsult.se iCalcreator 2.30.10//
CALSCALE:GREGORIAN
METHOD:PUBLISH
UID:b2be8e5f-53ec-4b3d-99df-b1510407143b
X-WR-CALDESC:
X-WR-RELCALID:c0d6dad240cef71eda7be25d77a88e68
X-WR-TIMEZONE:America/New_York
BEGIN:VTIMEZONE
TZID:America/New_York
BEGIN:STANDARD
TZNAME:EST
DTSTART:20241103T020000
TZOFFSETFROM:-0400
TZOFFSETTO:-0500
RDATE:20251102T020000
RDATE:20261101T020000
END:STANDARD
BEGIN:DAYLIGHT
TZNAME:EDT
DTSTART:20250309T020000
TZOFFSETFROM:-0500
TZOFFSETTO:-0400
RDATE:20260308T020000
END:DAYLIGHT
END:VTIMEZONE
BEGIN:VEVENT
UID:19fe7e58-2615-437e-96e9-7480b9b7b714
DTSTAMP:20260423T083438Z
DESCRIPTION:
DTSTART;TZID=America/New_York:20250811T100000
DTEND;TZID=America/New_York:20250811T120000
LOCATION:308 Hemlock Drive\, Moon Township\, PA 15108 US
SUMMARY:Adult Crafts
END:VEVENT
END:VCALENDAR
