BEGIN:VCALENDAR
VERSION:2.0
PRODID:-//mooncrest.org//NONSGML kigkonsult.se iCalcreator 2.30.10//
CALSCALE:GREGORIAN
METHOD:PUBLISH
UID:da401ec9-e484-46a6-9f9c-e93237f3c740
X-WR-CALDESC:
X-WR-RELCALID:f322ec3c7cf451c275fc5809e9ac3573
X-WR-TIMEZONE:America/New_York
BEGIN:VTIMEZONE
TZID:America/New_York
BEGIN:STANDARD
TZNAME:EST
DTSTART:20241103T020000
TZOFFSETFROM:-0400
TZOFFSETTO:-0500
RDATE:20251102T020000
RDATE:20261101T020000
END:STANDARD
BEGIN:DAYLIGHT
TZNAME:EDT
DTSTART:20250309T020000
TZOFFSETFROM:-0500
TZOFFSETTO:-0400
RDATE:20260308T020000
END:DAYLIGHT
END:VTIMEZONE
BEGIN:VEVENT
UID:554535ff-c67b-4e92-aed0-c52b1decbc99
DTSTAMP:20260423T085853Z
DESCRIPTION:
DTSTART;TZID=America/New_York:20250723T123000
DTEND;TZID=America/New_York:20250723T143000
LOCATION:
SUMMARY:GED
END:VEVENT
END:VCALENDAR
