BEGIN:VCALENDAR
VERSION:2.0
PRODID:-//mooncrest.org//NONSGML kigkonsult.se iCalcreator 2.30.10//
CALSCALE:GREGORIAN
METHOD:PUBLISH
UID:6362dfcc-6196-4977-abf1-76562fd33011
X-WR-CALDESC:
X-WR-RELCALID:1889537be66eeb7cd43c76fd3543a867
X-WR-TIMEZONE:America/New_York
BEGIN:VTIMEZONE
TZID:America/New_York
BEGIN:STANDARD
TZNAME:EST
DTSTART:20241103T020000
TZOFFSETFROM:-0400
TZOFFSETTO:-0500
RDATE:20251102T020000
RDATE:20261101T020000
END:STANDARD
BEGIN:DAYLIGHT
TZNAME:EDT
DTSTART:20250309T020000
TZOFFSETFROM:-0500
TZOFFSETTO:-0400
RDATE:20260308T020000
END:DAYLIGHT
END:VTIMEZONE
BEGIN:VEVENT
UID:df886436-a926-4a2a-ab1c-71607c36d5d4
DTSTAMP:20260423T082720Z
DESCRIPTION:
DTSTART;TZID=America/New_York:20250721T090000
DTEND;TZID=America/New_York:20250721T120000
LOCATION:
SUMMARY:Maya
END:VEVENT
END:VCALENDAR
