BEGIN:VCALENDAR
VERSION:2.0
PRODID:-//mooncrest.org//NONSGML kigkonsult.se iCalcreator 2.30.10//
CALSCALE:GREGORIAN
METHOD:PUBLISH
UID:39df2547-d6a3-457c-8776-c09b9e7e54eb
X-WR-CALDESC:
X-WR-RELCALID:d390d3525eecb1fd70534cd6cecb20d6
X-WR-TIMEZONE:America/New_York
BEGIN:VTIMEZONE
TZID:America/New_York
BEGIN:STANDARD
TZNAME:EST
DTSTART:20241103T020000
TZOFFSETFROM:-0400
TZOFFSETTO:-0500
RDATE:20251102T020000
RDATE:20261101T020000
END:STANDARD
BEGIN:DAYLIGHT
TZNAME:EDT
DTSTART:20250309T020000
TZOFFSETFROM:-0500
TZOFFSETTO:-0400
RDATE:20260308T020000
END:DAYLIGHT
END:VTIMEZONE
BEGIN:VEVENT
UID:50adf5a6-5132-4bd8-b703-20794f579269
DTSTAMP:20260423T083555Z
DESCRIPTION:
DTSTART;TZID=America/New_York:20250716T123000
DTEND;TZID=America/New_York:20250716T143000
LOCATION:
SUMMARY:GED
END:VEVENT
END:VCALENDAR
