BEGIN:VCALENDAR
VERSION:2.0
PRODID:-//mooncrest.org//NONSGML kigkonsult.se iCalcreator 2.30.10//
CALSCALE:GREGORIAN
METHOD:PUBLISH
UID:e3efdd05-1e55-46ee-be12-e6315a12556b
X-WR-CALDESC:
X-WR-RELCALID:59976ec243deabe0255be868fe0591ca
X-WR-TIMEZONE:America/New_York
BEGIN:VTIMEZONE
TZID:America/New_York
BEGIN:STANDARD
TZNAME:EST
DTSTART:20241103T020000
TZOFFSETFROM:-0400
TZOFFSETTO:-0500
RDATE:20251102T020000
END:STANDARD
BEGIN:DAYLIGHT
TZNAME:EDT
DTSTART:20240310T020000
TZOFFSETFROM:-0500
TZOFFSETTO:-0400
RDATE:20250309T020000
RDATE:20260308T020000
END:DAYLIGHT
END:VTIMEZONE
BEGIN:VEVENT
UID:29d17d15-c219-45bc-a31c-ae0e459f068b
DTSTAMP:20260419T122454Z
DESCRIPTION:
DTSTART;TZID=America/New_York:20241118T123000
DTEND;TZID=America/New_York:20241118T143000
LOCATION:
SUMMARY:GED
END:VEVENT
END:VCALENDAR
