BEGIN:VCALENDAR
VERSION:2.0
PRODID:-//mooncrest.org//NONSGML kigkonsult.se iCalcreator 2.30.10//
CALSCALE:GREGORIAN
METHOD:PUBLISH
UID:dc73c954-a812-4340-aa7d-bc3e14eae776
X-WR-CALDESC:
X-WR-RELCALID:e5a2d03dec73f30583de896b1b081d5d
X-WR-TIMEZONE:America/New_York
BEGIN:VTIMEZONE
TZID:America/New_York
BEGIN:STANDARD
TZNAME:EST
DTSTART:20241103T020000
TZOFFSETFROM:-0400
TZOFFSETTO:-0500
RDATE:20251102T020000
END:STANDARD
BEGIN:DAYLIGHT
TZNAME:EDT
DTSTART:20240310T020000
TZOFFSETFROM:-0500
TZOFFSETTO:-0400
RDATE:20250309T020000
RDATE:20260308T020000
END:DAYLIGHT
END:VTIMEZONE
BEGIN:VEVENT
UID:8b57d495-ceb1-463b-bfa4-000443121f97
DTSTAMP:20260423T083252Z
DESCRIPTION:
DTSTART;TZID=America/New_York:20241113T100000
DTEND;TZID=America/New_York:20241113T113000
LOCATION:308 hemlock Dvie\, Moon Township\, PA 15108 US
SUMMARY:Faith Sharing and Pokeno
END:VEVENT
END:VCALENDAR
