BEGIN:VCALENDAR
VERSION:2.0
PRODID:-//mooncrest.org//NONSGML kigkonsult.se iCalcreator 2.30.10//
CALSCALE:GREGORIAN
METHOD:PUBLISH
UID:1bdca3e7-f16c-4dbc-8a1d-5ab18e618539
X-WR-CALDESC:
X-WR-RELCALID:1af5146be1f51955677ad3b958f48413
X-WR-TIMEZONE:America/New_York
BEGIN:VTIMEZONE
TZID:America/New_York
BEGIN:STANDARD
TZNAME:EST
DTSTART:20231105T020000
TZOFFSETFROM:-0400
TZOFFSETTO:-0500
RDATE:20241103T020000
RDATE:20251102T020000
END:STANDARD
BEGIN:DAYLIGHT
TZNAME:EDT
DTSTART:20240310T020000
TZOFFSETFROM:-0500
TZOFFSETTO:-0400
RDATE:20250309T020000
RDATE:20260308T020000
END:DAYLIGHT
END:VTIMEZONE
BEGIN:VEVENT
UID:f9869cee-2a1c-4650-8aee-17a8a3bf70c9
DTSTAMP:20260423T100432Z
DESCRIPTION:
DTSTART;TZID=America/New_York:20241029T100000
DTEND;TZID=America/New_York:20241029T120000
LOCATION:
SUMMARY:West Hill Food Pantry
END:VEVENT
END:VCALENDAR
