BEGIN:VCALENDAR
VERSION:2.0
PRODID:-//mooncrest.org//NONSGML kigkonsult.se iCalcreator 2.30.10//
CALSCALE:GREGORIAN
METHOD:PUBLISH
UID:d9058c44-37aa-497f-bee6-76eaf553d2b4
X-WR-CALDESC:
X-WR-RELCALID:f0321b2c43b460cf3e40a58a1c681ece
X-WR-TIMEZONE:America/New_York
BEGIN:VTIMEZONE
TZID:America/New_York
BEGIN:STANDARD
TZNAME:EST
DTSTART:20231105T020000
TZOFFSETFROM:-0400
TZOFFSETTO:-0500
RDATE:20241103T020000
RDATE:20251102T020000
END:STANDARD
BEGIN:DAYLIGHT
TZNAME:EDT
DTSTART:20240310T020000
TZOFFSETFROM:-0500
TZOFFSETTO:-0400
RDATE:20250309T020000
RDATE:20260308T020000
END:DAYLIGHT
END:VTIMEZONE
BEGIN:VEVENT
UID:1e7e728e-76e3-4d9b-a7b4-bacd0d9a7c14
DTSTAMP:20260423T094904Z
DESCRIPTION:
DTSTART;TZID=America/New_York:20241028T100000
DTEND;TZID=America/New_York:20241028T120000
LOCATION:308 Hemlock Drive\, Moon Township\, PA 15108 US
SUMMARY:Adult Crafts
END:VEVENT
END:VCALENDAR
