BEGIN:VCALENDAR
VERSION:2.0
PRODID:-//mooncrest.org//NONSGML kigkonsult.se iCalcreator 2.30.10//
CALSCALE:GREGORIAN
METHOD:PUBLISH
UID:4c4e9619-0d3b-4258-ad50-18af7c08382e
X-WR-CALDESC:
X-WR-RELCALID:fac8a08f46cf770b408bb3b9e138563a
X-WR-TIMEZONE:America/New_York
BEGIN:VTIMEZONE
TZID:America/New_York
BEGIN:STANDARD
TZNAME:EST
DTSTART:20231105T020000
TZOFFSETFROM:-0400
TZOFFSETTO:-0500
RDATE:20241103T020000
RDATE:20251102T020000
END:STANDARD
BEGIN:DAYLIGHT
TZNAME:EDT
DTSTART:20240310T020000
TZOFFSETFROM:-0500
TZOFFSETTO:-0400
RDATE:20250309T020000
RDATE:20260308T020000
END:DAYLIGHT
END:VTIMEZONE
BEGIN:VEVENT
UID:ce34b553-5e4d-4a1d-a66f-c0bf03083b71
DTSTAMP:20260423T095339Z
DESCRIPTION:
DTSTART;TZID=America/New_York:20241015T100000
DTEND;TZID=America/New_York:20241015T120000
LOCATION:
SUMMARY:West Hill Food  Pantry
END:VEVENT
END:VCALENDAR
