BEGIN:VCALENDAR
VERSION:2.0
PRODID:-//mooncrest.org//NONSGML kigkonsult.se iCalcreator 2.30.10//
CALSCALE:GREGORIAN
METHOD:PUBLISH
UID:d476425d-4f9b-4cae-8a53-aa944fbc2027
X-WR-CALDESC:
X-WR-RELCALID:e621b45be75a95c658e34105f195c033
X-WR-TIMEZONE:America/New_York
BEGIN:VTIMEZONE
TZID:America/New_York
BEGIN:STANDARD
TZNAME:EST
DTSTART:20231105T020000
TZOFFSETFROM:-0400
TZOFFSETTO:-0500
RDATE:20241103T020000
RDATE:20251102T020000
END:STANDARD
BEGIN:DAYLIGHT
TZNAME:EDT
DTSTART:20240310T020000
TZOFFSETFROM:-0500
TZOFFSETTO:-0400
RDATE:20250309T020000
RDATE:20260308T020000
END:DAYLIGHT
END:VTIMEZONE
BEGIN:VEVENT
UID:14cd71ae-3ff7-484e-8023-ea49907bf189
DTSTAMP:20260423T085915Z
DESCRIPTION:
DTSTART;TZID=America/New_York:20241014T060000
DTEND;TZID=America/New_York:20241014T060001
LOCATION:308 Hemlock Drive \, Moon Township\, PA 15108 US
SUMMARY:No School/No Program
END:VEVENT
END:VCALENDAR
