BEGIN:VCALENDAR
VERSION:2.0
PRODID:-//mooncrest.org//NONSGML kigkonsult.se iCalcreator 2.30.10//
CALSCALE:GREGORIAN
METHOD:PUBLISH
UID:8957c462-ed3d-4ccd-b3e7-998f1a96cce8
X-WR-CALDESC:
X-WR-RELCALID:1dbfe237aedd05a4f0454edbe1a4a027
X-WR-TIMEZONE:America/New_York
BEGIN:VTIMEZONE
TZID:America/New_York
BEGIN:STANDARD
TZNAME:EST
DTSTART:20231105T020000
TZOFFSETFROM:-0400
TZOFFSETTO:-0500
RDATE:20241103T020000
RDATE:20251102T020000
END:STANDARD
BEGIN:DAYLIGHT
TZNAME:EDT
DTSTART:20240310T020000
TZOFFSETFROM:-0500
TZOFFSETTO:-0400
RDATE:20250309T020000
RDATE:20260308T020000
END:DAYLIGHT
END:VTIMEZONE
BEGIN:VEVENT
UID:1f92babd-bb7c-4dc3-8eec-846974c9dba3
DTSTAMP:20260423T083236Z
DESCRIPTION:
DTSTART;TZID=America/New_York:20241007T123000
DTEND;TZID=America/New_York:20241007T143000
LOCATION:
SUMMARY:GED
END:VEVENT
END:VCALENDAR
