BEGIN:VCALENDAR
VERSION:2.0
PRODID:-//mooncrest.org//NONSGML kigkonsult.se iCalcreator 2.30.10//
CALSCALE:GREGORIAN
METHOD:PUBLISH
UID:e76b31e8-4e17-4fd4-b0c6-24a2367e9212
X-WR-CALDESC:Benefiting Mooncrest Neighborhood Programs\n\n<strong>Cost:</s
 trong> $100 per Golfer\nLunch\, dinner and refreshments are included.\n\n<
 h5>We welcome individual golfers and groups!</h5>\n\nParticipants can also
  enjoy skill prizes\, a 50/50 and gift baskets raffle.\n- 7:30 AM Registra
 tion and Continental Breakfast\n- 9:00 AM Scramble Shotgun Start\n\nTo sta
 rt the registration process by paying online\, or to become a sponsor by m
 aking an online donation\, just mention “Golf Outing” in the “notes” and <
 a href='/support-us/donate.html'>click here</a>.\n\n<h5>Sponsorship Opport
 unities</h5>\nPlease consider supporting this event with a sponsorship. Le
 vels and benefits of each are listed below:\n\n<strong>Gold Sponsor – $3\,
 000</strong>\n- Three golf foursomes\n- Premium acknowledgments\n- Company
  Recognition\n- Tee-Sign\n\n<strong>Silver Sponsor – $2\,000</strong>\n- T
 wo golf foursomes\n- Company Recognition\n- Tee-Sign\n\n<strong>Bronze Spo
 nsor – $1\,000</strong>\n- One golf foursome\n- Company Recognition\n- Tee
 -Sign\n\n<strong>Dinner sponsor – $750</strong>\n\n<strong>Lunch\, Beverag
 e\, or Snack &nbsp\;Sponsor – $500</strong>\n\n<strong>Tee Sponsor – $100<
 /strong>\n
X-WR-RELCALID:3cde7b73f9f7ffcd000ae2e3d7e9a23a
X-WR-TIMEZONE:America/Chicago
BEGIN:VTIMEZONE
TZID:America/Chicago
BEGIN:STANDARD
TZNAME:CST
DTSTART:20231105T020000
TZOFFSETFROM:-0500
TZOFFSETTO:-0600
RDATE:20241103T020000
RDATE:20251102T020000
END:STANDARD
BEGIN:DAYLIGHT
TZNAME:CDT
DTSTART:20240310T020000
TZOFFSETFROM:-0600
TZOFFSETTO:-0500
RDATE:20250309T020000
END:DAYLIGHT
END:VTIMEZONE
BEGIN:VEVENT
UID:27f47b82-8ff0-4cf0-baa4-cf8e2f41b5e1
DTSTAMP:20260419T123711Z
DESCRIPTION:Benefiting Mooncrest Neighborhood Programs\n\n<strong>Cost:</st
 rong> $100 per Golfer\nLunch\, dinner and refreshments are included.\n\n<h
 5>We welcome individual golfers and groups!</h5>\n\nParticipants can also 
 enjoy skill prizes\, a 50/50 and gift baskets raffle.\n- 7:30 AM Registrat
 ion and Continental Breakfast\n- 9:00 AM Scramble Shotgun Start\n\nTo star
 t the registration process by paying online\, or to become a sponsor by ma
 king an online donation\, just mention “Golf Outing” in the “notes” and <a
  href='/support-us/donate.html'>click here</a>.\n\n<h5>Sponsorship Opportu
 nities</h5>\nPlease consider supporting this event with a sponsorship. Lev
 els and benefits of each are listed below:\n\n<strong>Gold Sponsor – $3\,0
 00</strong>\n- Three golf foursomes\n- Premium acknowledgments\n- Company 
 Recognition\n- Tee-Sign\n\n<strong>Silver Sponsor – $2\,000</strong>\n- Tw
 o golf foursomes\n- Company Recognition\n- Tee-Sign\n\n<strong>Bronze Spon
 sor – $1\,000</strong>\n- One golf foursome\n- Company Recognition\n- Tee-
 Sign\n\n<strong>Dinner sponsor – $750</strong>\n\n<strong>Lunch\, Beverage
 \, or Snack &nbsp\;Sponsor – $500</strong>\n\n<strong>Tee Sponsor – $100</
 strong>\n
DTSTART;TZID=America/Chicago:20240823T073000
DTEND;TZID=America/Chicago:20240823T190000
LOCATION:Moon Golf Club\, 505 McCormick Rd\, Moon Twp\, PA 15108 US
SUMMARY:6th Annual Sister Rene Procopio Golf Memorial Classic
END:VEVENT
END:VCALENDAR
